BEGIN:VCALENDAR
VERSION:2.0
PRODID:-//ChamberMaster//Event Calendar 2.0//EN
METHOD:PUBLISH
X-PUBLISHED-TTL:P3D
REFRESH-INTERVAL:P3D
CALSCALE:GREGORIAN
BEGIN:VEVENT
DTSTART:20150417T003000Z
DTEND:20150417T030000Z
X-MICROSOFT-CDO-ALLDAYEVENT:FALSE
SUMMARY:Nationwide Ribbon Cutting
DESCRIPTION:Join us in celebrating Nationwide's new location on Ham Lane with a ribbon cutting.
X-ALT-DESC;FMTTYPE=text/html:Join us in celebrating Nationwide&#39\;s new location on Ham Lane with a ribbon cutting.
LOCATION:701 S. Ham Lane\, Suite A (2nd floor of Wells Fargo building)
UID:e.2050.575
SEQUENCE:3
DTSTAMP:20260421T031050Z
URL:https://business.lodichamber.com/events/details/nationwide-ribbon-cutting-04-16-2015-575
END:VEVENT

END:VCALENDAR
