BEGIN:VCALENDAR
VERSION:2.0
PRODID:-//ChamberMaster//Event Calendar 2.0//EN
METHOD:PUBLISH
X-PUBLISHED-TTL:P3D
REFRESH-INTERVAL:P3D
CALSCALE:GREGORIAN
BEGIN:VEVENT
DTSTART:20151002T003000Z
DTEND:20151002T020000Z
X-MICROSOFT-CDO-ALLDAYEVENT:FALSE
SUMMARY:Nava & Co. Ribbon Cutting
DESCRIPTION:Join us as we celebrate Nava & Co. joining the Chamber family. Will be a wonderful evening of networking and celebration. Plus\, all jewelry will be 10% off ~the perfect time to start Holiday Shopping!
X-ALT-DESC;FMTTYPE=text/html:Join us as we celebrate Nava &amp\; Co. joining the Chamber family. Will be a wonderful evening of networking and celebration. Plus\, all jewelry will be 10% off ~the perfect time to start Holiday Shopping!
LOCATION:6 W. Oak Street
UID:e.2050.920
SEQUENCE:3
DTSTAMP:20260420T185311Z
URL:https://business.lodichamber.com/events/details/nava-co-ribbon-cutting-10-01-2015-920
END:VEVENT

END:VCALENDAR
