BEGIN:VCALENDAR
VERSION:2.0
PRODID:-//ChamberMaster//Event Calendar 2.0//EN
METHOD:PUBLISH
X-PUBLISHED-TTL:P3D
REFRESH-INTERVAL:P3D
CALSCALE:GREGORIAN
BEGIN:VEVENT
DTSTART:20160408T170000Z
DTEND:20160408T230000Z
X-MICROSOFT-CDO-ALLDAYEVENT:FALSE
SUMMARY:Nearly New Sale
DESCRIPTION:Get your hands on some amazing deals on brand new and nearly new clothing\, accessories and home goods! The Fashion Club and Event Production Class are holding the semi-annual Nearly New Sale on FRIDAY\, APRIL 8th\, 2016 from 10 am to 4 pm in Danner Hall on the San Joaquin Delta College campus. Most items are brand new\, many still have tags attached\, and all are in brand new or nearly new condition\, prices starting at just $1! This event is held for ONE DAY ONLY! * This is an event organized and produced by the Fashion Production Team & The Fashion Club\, along with San Joaquin Delta College and is fundraiser for them to assist with costs of education\, field trips and industry experiences. Visit www.deltacollege.edu for maps and directions! Parking is $2 with permit dispensers in every parking lot. Contact: Fashion Club Fashionclub@deltacollege.edu
X-ALT-DESC;FMTTYPE=text/html:Get your hands on some amazing deals on brand new and nearly new clothing\, accessories and home goods! The Fashion Club and Event Production Class are holding the semi-annual Nearly New Sale on FRIDAY\, APRIL 8th\, 2016 from 10 am to 4 pm in Danner Hall on the San Joaquin Delta College campus. Most items are brand new\, many still have tags attached\, and all are in brand new or nearly new condition\, prices starting at just $1! This event is held for ONE DAY ONLY! * This is an event organized and produced by the Fashion Production Team &amp\; The Fashion Club\, along with San Joaquin Delta College and is fundraiser for them to assist with costs of education\, field trips and industry experiences. Visit www.deltacollege.edu for maps and directions! Parking is $2 with permit dispensers in every parking lot. Contact: Fashion Club Fashionclub@deltacollege.edu
LOCATION:San Joaquin Delta College - Danner Hall 5151 Pacific Avenue Stockton\, CA 95207
UID:e.2050.957
SEQUENCE:3
DTSTAMP:20260420T114113Z
URL:https://business.lodichamber.com/events/details/nearly-new-sale-04-08-2016-957
END:VEVENT

END:VCALENDAR
