BEGIN:VCALENDAR
VERSION:2.0
PRODID:-//ChamberMaster//Event Calendar 2.0//EN
METHOD:PUBLISH
X-PUBLISHED-TTL:P3D
REFRESH-INTERVAL:P3D
CALSCALE:GREGORIAN
BEGIN:VEVENT
DTSTART:20150410T170000Z
DTEND:20150410T230000Z
X-MICROSOFT-CDO-ALLDAYEVENT:FALSE
SUMMARY:Nearly New Sale
DESCRIPTION:Get Some Great Deals for a Steal! The popular Nearly New Sale is back! Mark your calendars for Friday April 10\, 2014 for this amazing sale. Hosted by Delta College's Fashion Program\, the event runs from 10 am to 4 pm. Get your hands on new and nearly new: Apparel for women\, men and children - in all sizes Shoes - in many different sizes Handbags Scarves Accessories Home Decor / Holiday decor Candles Frames Lamps Bedding & Bath Skin care/Fragrances and more.... .... brand\, store and designer names! Past sales have featured brand names including Premium Denim by Joe's Jeans\, Rock n Republic\, 7 for All Mankind\, William Rast\, Seven\, Paige Denim\, Levis\, GAP\, PJ Salvage\, Miss Me\, BCBG  Nine West\, Enzo\, as well as designer brands including Chanel\, Armani\, St. John\, Ferragamo\, Tahari\, Escada and many more! Most merchandise is brand new with tags still attached! The merchandise is different with each sale\, as it is donated by local and regional retailers\, designers and manufacturers. All are at prices starting at just $1. WHEN: April 10\, 2015\; 10 am - 4 pm WHERE: Danner Hall on the Delta College Campus Please visit www.deltacollege.edu for maps\, directions and parking. This event is a fundraiser for the program and benefits the students involved. *We would like to thank our incredible retailers and manufacturers who support this event through their generous donations!
X-ALT-DESC;FMTTYPE=text/html:Get Some Great Deals for a Steal! The popular Nearly New Sale&nbsp\;is back! Mark your calendars for Friday April 10\, 2014 for this amazing sale. Hosted by Delta College&#39\;s Fashion Program\, the event runs from 10 am to 4 pm. Get your hands on new and nearly new: Apparel for women\, men and children - in all sizes Shoes - in many different sizes Handbags Scarves Accessories Home Decor / Holiday decor Candles Frames Lamps Bedding &amp\; Bath Skin care/Fragrances and more.... .... brand\, store and designer names! Past sales have featured brand names including Premium Denim by Joe&#39\;s Jeans\, Rock n Republic\, 7 for All Mankind\, William Rast\, Seven\, Paige Denim\, Levis\, GAP\, PJ Salvage\, Miss Me\, BCBG&lt\; Nine West\, Enzo\, as well as designer brands including Chanel\, Armani\, St. John\, Ferragamo\, Tahari\, Escada and many more! Most merchandise is brand new with tags still attached! The merchandise is different with each sale\, as it is donated by local and regional retailers\, designers and manufacturers. All are at prices starting at just $1. WHEN: April 10\, 2015\; 10 am - 4 pm WHERE: Danner Hall on the Delta College Campus Please visit www.deltacollege.edu for maps\, directions and parking. This event is a fundraiser for the program and benefits the students involved. *We would like to thank our incredible retailers and manufacturers who support this event through their generous donations!
LOCATION:Danner Hall San Jaoquin Delta College
UID:e.2050.423
SEQUENCE:3
DTSTAMP:20260421T031534Z
URL:https://business.lodichamber.com/events/details/nearly-new-sale-04-10-2015-423
END:VEVENT

END:VCALENDAR
