BEGIN:VCALENDAR
VERSION:2.0
PRODID:-//ChamberMaster//Event Calendar 2.0//EN
METHOD:PUBLISH
X-PUBLISHED-TTL:P3D
REFRESH-INTERVAL:P3D
CALSCALE:GREGORIAN
BEGIN:VEVENT
DTSTART:20141010T170000Z
DTEND:20141010T230000Z
X-MICROSOFT-CDO-ALLDAYEVENT:FALSE
SUMMARY:Nearly New Sale
DESCRIPTION:Get Some Great Deals for a Steal! Mark your calendars for the Fashion Club?s Popular ?Nearly New Sale? - Friday\, October 10\, 2014 from 10 am to 4 pm.... you won't want to miss it! Get your hands on new and nearly new apparel for women\, men and children - in all sizes\; shoes\, handbags\, jewelry\, scarves\, accessories\, home decor\, holiday decor and ornaments\, candles\, frames\, lamps\, pictures\, bedding\, bath\, accessories\, skin care and more... all at prices starting at just $1. Most merchandise is brand new with tags still attached! The merchandise is different with each sale\, as it is donated by local and regional retailers\, designers and manufacturers. Past sales have featured brand name apparel like: Premium Denim by Joe's Jeans\, Rock n Republic\, 7 for All Mankind\, William Rast\, Seven\, Paige and Levis. Fashion from Gap\, Banana Republic\, INC\, Laundry\, Joie\, Ellen Tracy\, Weston Wear\, Cut Loose\, Elie Tahari\, BCBG\, Escada\, St. John Knits\, PJ Salvage\, Miss Me and more Shoes from Chanel\, Ferragamo\, Escada\, Nine West\, Ugg\, Nike\, Enzo\, and many other brands! WHEN: Friday\, October 10\, 2014\; 10 am - 4 pm WHERE: Danner Hall on the Delta College Campus Please visit www.deltacollege.edu for maps\, directions and parking ATM on site.
X-ALT-DESC;FMTTYPE=text/html:Get Some Great Deals for a Steal! Mark your calendars for the Fashion Club?s Popular ?Nearly New Sale? - Friday\, October 10\, 2014 from 10 am to 4 pm.... you won&#39\;t want to miss it! Get your hands on new and nearly new apparel for women\, men and children - in all sizes\; shoes\, handbags\, jewelry\, scarves\, accessories\, home decor\, holiday decor and ornaments\, candles\, frames\, lamps\, pictures\, bedding\, bath\, accessories\, skin care and more... all at prices starting at just $1. Most merchandise is brand new with tags still attached! The merchandise is different with each sale\, as it is donated by local and regional retailers\, designers and manufacturers. Past sales have featured brand name apparel like: Premium Denim by Joe&#39\;s Jeans\, Rock n Republic\, 7 for All Mankind\, William Rast\, Seven\, Paige and Levis. Fashion from Gap\, Banana Republic\, INC\, Laundry\, Joie\, Ellen Tracy\, Weston Wear\, Cut Loose\, Elie Tahari\, BCBG\, Escada\, St. John Knits\, PJ Salvage\, Miss Me and more Shoes from Chanel\, Ferragamo\, Escada\, Nine West\, Ugg\, Nike\, Enzo\, and many other brands! WHEN: Friday\, October 10\, 2014\; 10 am - 4 pm WHERE: Danner Hall on the Delta College Campus Please visit www.deltacollege.edu for maps\, directions and parking ATM on site.
LOCATION:San Joaquin Delta College Danner Hall 5151 Pacific Ave. Stockton\, CA 95205
UID:e.2050.325
SEQUENCE:3
DTSTAMP:20260421T115239Z
URL:https://business.lodichamber.com/events/details/nearly-new-sale-10-10-2014-325
END:VEVENT

END:VCALENDAR
