BEGIN:VCALENDAR
VERSION:2.0
PRODID:-//ChamberMaster//Event Calendar 2.0//EN
METHOD:PUBLISH
X-PUBLISHED-TTL:P3D
REFRESH-INTERVAL:P3D
CALSCALE:GREGORIAN
BEGIN:VEVENT
DTSTART:20151106T180000Z
DTEND:20151107T000000Z
X-MICROSOFT-CDO-ALLDAYEVENT:FALSE
SUMMARY:NEARLY NEW SALE
DESCRIPTION:Get your hands on some amazing deals on brand new and nearly new clothing\, accessories and home goods! The Fashion Club is holding it's semi-annual Nearly New Sale on FRIDAY\, NOVEMBER 6\, 2015 from 10 am to 4 pm in Danner Hall on the San Joaquin Delta College campus. Most items are brand new\, many still have tags attached\, all are in brand new or barely used condition and start at just $1 This event is held for ONE DAY ONLY! * This is an event organized and produced by the Fashion Club\, San Joaquin Delta College and is fundraiser for them to assist with costs of education\, field trips and industry experiences. Visit www.deltacollege.edu for maps and directions! Parking is $2 with permit dispensers in every parking lot.
X-ALT-DESC;FMTTYPE=text/html:Get your hands on some amazing deals on brand new and nearly new clothing\, accessories and home goods! The Fashion Club is holding it&#39\;s semi-annual Nearly New Sale on FRIDAY\, NOVEMBER 6\, 2015 from 10 am to 4 pm in Danner Hall on the San Joaquin Delta College campus. Most items are brand new\, many still have tags attached\, all are in brand new or barely used condition and start at just $1 This event is held for ONE DAY ONLY! * This is an event organized and produced by the Fashion Club\, San Joaquin Delta College and is fundraiser for them to assist with costs of education\, field trips and industry experiences. Visit www.deltacollege.edu for maps and directions! Parking is $2 with permit dispensers in every parking lot.
LOCATION:San Joaquin Delta College - Danner Hall
UID:e.2050.931
SEQUENCE:3
DTSTAMP:20260420T172853Z
URL:https://business.lodichamber.com/events/details/nearly-new-sale-11-06-2015-931
END:VEVENT

END:VCALENDAR
