BEGIN:VCALENDAR
VERSION:2.0
PRODID:-//ChamberMaster//Event Calendar 2.0//EN
METHOD:PUBLISH
X-PUBLISHED-TTL:P3D
REFRESH-INTERVAL:P3D
CALSCALE:GREGORIAN
BEGIN:VEVENT
DTSTART:20150503T000000Z
DTEND:20150503T030000Z
X-MICROSOFT-CDO-ALLDAYEVENT:FALSE
SUMMARY:New Movie Screening with Jessica Lynch
DESCRIPTION:Here is your chance to meet Jessica Lynch\, former Prisoner of War and star of the movie ?One Church?\, in person. Be one of the first to see the rough cut of ?One Church? Saturday\, May 2 at 6 p.m. A Taco Bar Dinner is being served at 5 p.m. for $7 and movie is free. You?ll have the chance to provide your feedback to the producers before the final cut of this Christian political thriller. Bear Creek Community Church is conveniently located between Stockton and Lodi. Call 369-2202 or 951-9229 or go to www.bearcreekchurch.com today!
X-ALT-DESC;FMTTYPE=text/html:Here is your chance to meet Jessica Lynch\, former Prisoner of War and star of the movie ?One Church?\, in person. Be one of the first to see the rough cut of ?One Church? Saturday\, May 2 at 6 p.m. A Taco Bar Dinner is being served at 5 p.m. for $7 and movie is free. You?ll have the chance to provide your feedback to the producers before the final cut of this Christian political thriller. Bear Creek Community Church is conveniently located between Stockton and Lodi. Call 369-2202 or 951-9229 or go to www.bearcreekchurch.com today!
LOCATION:Bear Creek Community Church 11171 N Lower Sacramento Rd Lodi\, CA 95242
UID:e.2050.602
SEQUENCE:3
DTSTAMP:20260421T021100Z
URL:https://business.lodichamber.com/events/details/new-movie-screening-with-jessica-lynch-05-02-2015-602
END:VEVENT

END:VCALENDAR
