BEGIN:VCALENDAR
VERSION:2.0
PRODID:-//ChamberMaster//Event Calendar 2.0//EN
METHOD:PUBLISH
X-PUBLISHED-TTL:P3D
REFRESH-INTERVAL:P3D
CALSCALE:GREGORIAN
BEGIN:VEVENT
DTSTART:20151202T010000Z
DTEND:20151202T040000Z
X-MICROSOFT-CDO-ALLDAYEVENT:FALSE
SUMMARY:Northern San Joaquin Power Connect - Public Open House
DESCRIPTION:You're invited to attend an open house to learn more about the proposed Northern San Joaquin Power Connect project. Members of our project team will be available at each open house to discuss project details\, answer questions and gather your feedback and input.
X-ALT-DESC;FMTTYPE=text/html:You&#39\;re invited to attend an open house to learn more about the proposed Northern San Joaquin Power Connect project. Members of our project team will be available at each open house to discuss project details\, answer questions and gather your feedback and input.
LOCATION:Lodi Public Library\, Community Room 201 W. Locust St.\, Lodi\, CA 95240
UID:e.2050.940
SEQUENCE:3
DTSTAMP:20260420T155709Z
URL:https://business.lodichamber.com/events/details/northern-san-joaquin-power-connect-public-open-house-12-01-2015-940
END:VEVENT

END:VCALENDAR
