BEGIN:VCALENDAR
VERSION:2.0
PRODID:-//ChamberMaster//Event Calendar 2.0//EN
METHOD:PUBLISH
X-PUBLISHED-TTL:P3D
REFRESH-INTERVAL:P3D
CALSCALE:GREGORIAN
BEGIN:VEVENT
DTSTART:20151203T000000Z
DTEND:20151203T030000Z
X-MICROSOFT-CDO-ALLDAYEVENT:FALSE
SUMMARY:Northern San Joaquin Power Connect - Public Open House
DESCRIPTION:You're invited to attend an open house to learn more about the proposed Northern San Joaquin Power Connect project. Members of our project team will be available at each open house to discuss project details\, answer questions and gather your feedback and input.
X-ALT-DESC;FMTTYPE=text/html:You&#39\;re invited to attend an open house to learn more about the proposed Northern San Joaquin Power Connect project. Members of our project team will be available at each open house to discuss project details\, answer questions and gather your feedback and input.
LOCATION:Tokay High School\, Cafeteria 1111 W. Century Blvd.\, Lodi\, CA 95240
UID:e.2050.939
SEQUENCE:3
DTSTAMP:20260420T173017Z
URL:https://business.lodichamber.com/events/details/northern-san-joaquin-power-connect-public-open-house-12-02-2015-939
END:VEVENT

END:VCALENDAR
