BEGIN:VCALENDAR
VERSION:2.0
PRODID:-//ChamberMaster//Event Calendar 2.0//EN
METHOD:PUBLISH
X-PUBLISHED-TTL:P3D
REFRESH-INTERVAL:P3D
CALSCALE:GREGORIAN
BEGIN:VEVENT
DTSTART:20151204T000000Z
DTEND:20151204T030000Z
X-MICROSOFT-CDO-ALLDAYEVENT:FALSE
SUMMARY:Northern San Joaquin Power Connect - Public Open House
DESCRIPTION:You're invited to attend an open house to learn more about the proposed Northern San Joaquin Power Connect project. Members of our project team will be available at each open house to discuss project details\, answer questions and gather your feedback and input.
X-ALT-DESC;FMTTYPE=text/html:You&#39\;re invited to attend an open house to learn more about the proposed Northern San Joaquin Power Connect project. Members of our project team will be available at each open house to discuss project details\, answer questions and gather your feedback and input.
LOCATION:Elkhorn School\, Multi-Purpose Room 10505 Davis Rd.\, Stockton\, CA 95209
UID:e.2050.938
SEQUENCE:3
DTSTAMP:20260420T155821Z
URL:https://business.lodichamber.com/events/details/northern-san-joaquin-power-connect-public-open-house-12-03-2015-938
END:VEVENT

END:VCALENDAR
