BEGIN:VCALENDAR
VERSION:2.0
PRODID:-//ChamberMaster//Event Calendar 2.0//EN
METHOD:PUBLISH
X-PUBLISHED-TTL:P3D
REFRESH-INTERVAL:P3D
CALSCALE:GREGORIAN
BEGIN:VEVENT
DTSTART:20150919T150000Z
DTEND:20150919T230000Z
X-MICROSOFT-CDO-ALLDAYEVENT:FALSE
SUMMARY:Old Corner Saloon - Charity Golf Tournament
DESCRIPTION:The Old Corner Saloon is holding a Charity Golf tournament supporting The Wounded Warrior Project. Join us in a fun day of golf while supporting a great cause! Sponsorships are also available.
X-ALT-DESC;FMTTYPE=text/html:The Old Corner Saloon&nbsp\;is holding a Charity Golf tournament supporting The Wounded Warrior Project. Join us in a fun day of golf while supporting a great cause! Sponsorships are also available.&nbsp\;
LOCATION:Lockeford Springs Golf Course 16360 CA-88
UID:e.2050.580
SEQUENCE:3
DTSTAMP:20260420T203013Z
URL:https://business.lodichamber.com/events/details/old-corner-saloon-charity-golf-tournament-09-19-2015-580
END:VEVENT

END:VCALENDAR
