BEGIN:VCALENDAR
VERSION:2.0
PRODID:-//ChamberMaster//Event Calendar 2.0//EN
METHOD:PUBLISH
X-PUBLISHED-TTL:P3D
REFRESH-INTERVAL:P3D
CALSCALE:GREGORIAN
BEGIN:VEVENT
DTSTART:20140509T000000Z
DTEND:20140509T013000Z
X-MICROSOFT-CDO-ALLDAYEVENT:FALSE
SUMMARY:One-Eighty Youth Program's Adolescent and Family Services Open House
DESCRIPTION:One-Eighty Youth Program volunteers and staff have been working hard to complete the Dan Brown House--the only exclusive\, adolescent-focused counseling service in Lodi. On Thursday\, May 8 One-Eighty Youth Programs\, 17 W. Lockeford St.\, will dedicate and celebrate the completion of the house for Adolescent and Family Services from 5 to 6:30 p.m. at One-Eighty Teen Center.  To attend the open house\, call (209) 339-2308 or visit 180lodi.org.
X-ALT-DESC;FMTTYPE=text/html:One-Eighty Youth Program volunteers and staff have been working hard to complete the Dan Brown House--the only exclusive\, adolescent-focused counseling service in Lodi. On Thursday\, May 8 One-Eighty Youth Programs\, 17 W. Lockeford St.\, will dedicate and celebrate the completion of the house for Adolescent and Family Services from 5 to 6:30 p.m. at One-Eighty Teen Center. &nbsp\;To attend the open house\, call (209) 339-2308 or visit 180lodi.org.&nbsp\;
LOCATION:One-Eighty Teen Center\, 17 W. Lockeford St.
UID:e.2050.257
SEQUENCE:3
DTSTAMP:20260421T204917Z
URL:https://business.lodichamber.com/events/details/one-eighty-youth-program-s-adolescent-and-family-services-open-house-05-08-2014-257
END:VEVENT

END:VCALENDAR
