BEGIN:VCALENDAR
VERSION:2.0
PRODID:-//ChamberMaster//Event Calendar 2.0//EN
METHOD:PUBLISH
X-PUBLISHED-TTL:P3D
REFRESH-INTERVAL:P3D
CALSCALE:GREGORIAN
BEGIN:VEVENT
DTSTART:20150913T210000Z
DTEND:20150914T000000Z
X-MICROSOFT-CDO-ALLDAYEVENT:FALSE
SUMMARY:Opera Remix: Opera meets classic rock!
DESCRIPTION:A fusion of the best classic rock songs and opera arias\, arranged by professional composers for a rock orchestra\, and performed by opera singers in a casual\, fun and interactive environment. Karaoke after party
X-ALT-DESC;FMTTYPE=text/html:A fusion of the best classic rock songs and opera arias\, arranged by professional composers for a rock orchestra\, and performed by opera singers in a casual\, fun and interactive environment. Karaoke after party
LOCATION:Hutchins Street Square
UID:e.2050.904
SEQUENCE:3
DTSTAMP:20260420T202617Z
URL:https://business.lodichamber.com/events/details/opera-remix-opera-meets-classic-rock-09-13-2015-904
END:VEVENT

END:VCALENDAR
