BEGIN:VCALENDAR
VERSION:2.0
PRODID:-//ChamberMaster//Event Calendar 2.0//EN
METHOD:PUBLISH
X-PUBLISHED-TTL:P3D
REFRESH-INTERVAL:P3D
CALSCALE:GREGORIAN
BEGIN:VEVENT
DTSTART:20260329T000000Z
DTEND:20260329T040000Z
X-MICROSOFT-CDO-ALLDAYEVENT:FALSE
SUMMARY:Pals Haven Presents
DESCRIPTION:Salty Paws\n\nShrimp Boil
X-ALT-DESC;FMTTYPE=text/html:<p style="text-align: center\;"><span style="font-size:26px\;"><strong>Salty Paws<br />\nShrimp Boil</strong></span></p>\n
LOCATION:Caty's Vineyard 11815 N Davis Rd\, Lodi Pals Haven is a 501(c)3 Non-Profit- Fed ID #72-1581053
UID:e.2050.6307
SEQUENCE:3
DTSTAMP:20260420T100102Z
URL:https://business.lodichamber.com/events/details/pals-haven-presents-6307
END:VEVENT

END:VCALENDAR
