BEGIN:VCALENDAR
VERSION:2.0
PRODID:-//ChamberMaster//Event Calendar 2.0//EN
METHOD:PUBLISH
X-PUBLISHED-TTL:P3D
REFRESH-INTERVAL:P3D
CALSCALE:GREGORIAN
BEGIN:VEVENT
DTSTART:20150424T003000Z
DTEND:20150424T020000Z
X-MICROSOFT-CDO-ALLDAYEVENT:FALSE
SUMMARY:Papa Joe's BBQ - Ribbon Cutting
DESCRIPTION:Join us as we welcome Papa Joe's BBQ into the Chamber Family with a Ribbon Cutting!
X-ALT-DESC;FMTTYPE=text/html:Join us as we welcome Papa Joe&#39\;s BBQ into the Chamber Family with a Ribbon Cutting!
LOCATION:234 E. Lodi Ave.
UID:e.2050.576
SEQUENCE:3
DTSTAMP:20260421T043326Z
URL:https://business.lodichamber.com/events/details/papa-joe-s-bbq-ribbon-cutting-04-23-2015-576
END:VEVENT

END:VCALENDAR
