BEGIN:VCALENDAR
VERSION:2.0
PRODID:-//ChamberMaster//Event Calendar 2.0//EN
METHOD:PUBLISH
X-PUBLISHED-TTL:P3D
REFRESH-INTERVAL:P3D
CALSCALE:GREGORIAN
BEGIN:VEVENT
DTSTART;VALUE=DATE:20150228
DTEND;VALUE=DATE:20150301
TRANSP:TRANSPARENT
X-MICROSOFT-CDO-ALLDAYEVENT:TRUE
SUMMARY:Pedaling Paths to Independence
DESCRIPTION:Recreational bike ride to benefit Community Center for the Blind. The agency has been lighting paths to independent living for people in the greater San Joaquin County area who are blind since 1949. Routes start and finish and Linden\, and traverse the bucolic back roads of San Joaquin\, Stanislaus and Calaveras counties. Fees include detailed maps and route sheets\, pre ride tech support\, radio communications\, support and gear vehicles\, catered post ride meal\, entertainment\, fully stocked rest stops\, amazing volunteers and more! Register online at http://www.communitycenterfortheblind.org/pedaling-paths.
X-ALT-DESC;FMTTYPE=text/html:Recreational bike ride to benefit Community Center for the Blind. The agency has been lighting paths to independent living for people in the greater San Joaquin County area who are blind since 1949. Routes start and finish and Linden\, and traverse the bucolic back roads of San Joaquin\, Stanislaus and Calaveras counties. Fees include detailed maps and route sheets\, pre ride tech support\, radio communications\, support and gear vehicles\, catered post ride meal\, entertainment\, fully stocked rest stops\, amazing volunteers and more! Register online at http://www.communitycenterfortheblind.org/pedaling-paths.
LOCATION:DeVinci's Delicatessen and Catering 18847 East Front Street Linden\, California
UID:e.2050.350
SEQUENCE:3
DTSTAMP:20260421T055800Z
URL:https://business.lodichamber.com/events/details/pedaling-paths-to-independence-02-28-2015-350
END:VEVENT

END:VCALENDAR
