BEGIN:VCALENDAR
VERSION:2.0
PRODID:-//ChamberMaster//Event Calendar 2.0//EN
METHOD:PUBLISH
X-PUBLISHED-TTL:P3D
REFRESH-INTERVAL:P3D
CALSCALE:GREGORIAN
BEGIN:VEVENT
DTSTART:20150527T003000Z
DTEND:20150527T020000Z
X-MICROSOFT-CDO-ALLDAYEVENT:FALSE
SUMMARY:Pregnancy Resource Center Mobile Unit Ribbon Cutting
DESCRIPTION:Join us to celebrate the Ribbon Cutting for Pregnancy Resource Center's new mobile unit!
X-ALT-DESC;FMTTYPE=text/html:Join us to celebrate the Ribbon Cutting for Pregnancy Resource Center&#39\;s new mobile unit!&nbsp\;
LOCATION:942 E Pine St.
UID:e.2050.823
SEQUENCE:3
DTSTAMP:20260421T020911Z
URL:https://business.lodichamber.com/events/details/pregnancy-resource-center-mobile-unit-ribbon-cutting-05-26-2015-823
END:VEVENT

END:VCALENDAR
