BEGIN:VCALENDAR
VERSION:2.0
PRODID:-//ChamberMaster//Event Calendar 2.0//EN
METHOD:PUBLISH
X-PUBLISHED-TTL:P3D
REFRESH-INTERVAL:P3D
CALSCALE:GREGORIAN
BEGIN:VEVENT
DTSTART:20150505T010000Z
DTEND:20150505T033000Z
X-MICROSOFT-CDO-ALLDAYEVENT:FALSE
SUMMARY:Presentation on Panama Railroad\, Built During Gold Rush
DESCRIPTION:You know about the Panama Canal\; but do you know about the "Golden Horse\," the Panama Railroad built in 1851-55? Juan David Morgan has written a book\, The Golden Horse: A Novel About Triumph and Tragedy Building the Panama Railroad. He will share the fascinating saga of the railroad that had so much impact upon early California. The program will start at 6:00 p.m. on Monday\, May 4\, in the Julia Harrison Micke Memorial Building in Micke Grove Regional Park. The dinner preceding the program will be catered by Angelina's. Cost is $10. RSVP to the San Joaquin County Historical Museum: (209) 331-2055 or 953-3460 by April 30.
X-ALT-DESC;FMTTYPE=text/html:You know about the Panama Canal\; but do you know about the &quot\;Golden Horse\,&quot\; the Panama Railroad built in 1851-55? Juan David Morgan has written a book\, The Golden Horse: A Novel About Triumph and Tragedy Building the Panama Railroad. He will share the fascinating saga of the railroad that had so much impact upon early California. The program will start at 6:00 p.m. on Monday\, May 4\, in the Julia Harrison Micke Memorial Building in Micke Grove Regional Park. The dinner preceding the program will be catered by Angelina&#39\;s. Cost is $10. RSVP to the San Joaquin County Historical Museum: (209) 331-2055 or 953-3460 by April 30.
LOCATION:Julia Harrison Micke Memorial Building\, Micke Grove Regional Park\, 11793 N. Micke Grove Rd. Lodi 95240
UID:e.2050.431
SEQUENCE:3
DTSTAMP:20260421T020244Z
URL:https://business.lodichamber.com/events/details/presentation-on-panama-railroad-built-during-gold-rush-05-04-2015-431
END:VEVENT

END:VCALENDAR
