BEGIN:VCALENDAR
VERSION:2.0
PRODID:-//ChamberMaster//Event Calendar 2.0//EN
METHOD:PUBLISH
X-PUBLISHED-TTL:P3D
REFRESH-INTERVAL:P3D
CALSCALE:GREGORIAN
BEGIN:VEVENT
DTSTART;VALUE=DATE:20151026
DTEND;VALUE=DATE:20151027
TRANSP:TRANSPARENT
X-MICROSOFT-CDO-ALLDAYEVENT:TRUE
SUMMARY:Rally for the Cure Golf Tournament
DESCRIPTION:Rally for the Cure with Woodbridge Mon\, Oct 26\, 2015 Hosted at Woodbridge Golf & Country Club We are proud to open our facility and host a Rally for the Cure event. The event is a fun way for us to bring together our members and the community to support an important cause and help us increase breast cancer self-awareness\, research and local support. More than 2 million people have participated in Rally events across the nation since its inception in 1996. 4-Man Scramble - Sign up as a team or single *Agenda* 9am ~ Registration 10am ~ Shotgun Start 2:30pm ~ Awards Luncheon Cost Per Player $60 Club Members | $75 NonClub Members Tickets are available Reservations MUST be made at eventbrite.com or through our Main Office - 334-5454 Prizes will be awarded to the winner of the event. Each participant will receives a Swag Bag\, plus a one-year subscription to a select Conde Nast magazines such as SELF\, Golf Digest and Bon Appetit.
X-ALT-DESC;FMTTYPE=text/html:Rally for the Cure with Woodbridge Mon\, Oct 26\, 2015 Hosted at Woodbridge Golf &amp\; Country Club We are proud to open our facility and host a Rally for the Cure event. The event is a fun way for us to bring together our members and the community to support an important cause and help us increase breast cancer self-awareness\, research and local support. More than 2 million people have participated in Rally events across the nation since its inception in 1996. 4-Man Scramble - Sign up as a team or single *Agenda* 9am ~ Registration 10am ~ Shotgun Start 2:30pm ~ Awards Luncheon Cost Per Player $60 Club Members | $75 NonClub Members Tickets are available Reservations MUST be made at eventbrite.com or through our Main Office - 334-5454 Prizes will be awarded to the winner of the event. Each participant will receives a Swag Bag\, plus a one-year subscription to a select Conde Nast magazines such as SELF\, Golf Digest and Bon Appetit.
LOCATION:Woodbridge Golf & Country Club 800 E Woodbridge Rd
UID:e.2050.908
SEQUENCE:3
DTSTAMP:20260420T185613Z
URL:https://business.lodichamber.com/events/details/rally-for-the-cure-golf-tournament-10-26-2015-908
END:VEVENT

END:VCALENDAR
