BEGIN:VCALENDAR
VERSION:2.0
PRODID:-//ChamberMaster//Event Calendar 2.0//EN
METHOD:PUBLISH
X-PUBLISHED-TTL:P3D
REFRESH-INTERVAL:P3D
CALSCALE:GREGORIAN
BEGIN:VEVENT
DTSTART:20150801T010000Z
DTEND:20150801T043000Z
X-MICROSOFT-CDO-ALLDAYEVENT:FALSE
SUMMARY:Randy Sparks and New Christy Minstrels Dinner Concert
DESCRIPTION:The seven-member New Christy Minstrels\, under the direction of Randy Sparks\, will perform a dinner concert benefitting the San Joaquin County Historical Society. The event will be on the grounds of the SJC Historical Museum (in Micke Grove Regional Park) on Friday\, July 31. 6 pm social hour\, 6:30 pm NY steak dinner\, 8 pm concert. Dinner and concert $75 per person. Ticket information call (209) 331-2055 or (209) 953-3460. www.SanJoaquinHistory.org www.thenewchristyminstrels.com
X-ALT-DESC;FMTTYPE=text/html:The seven-member New Christy Minstrels\, under the direction of Randy Sparks\, will perform a dinner concert benefitting the San Joaquin County Historical Society. The event will be on the grounds of the SJC Historical Museum (in Micke Grove Regional Park) on Friday\, July 31. 6 pm social hour\, 6:30 pm NY steak dinner\, 8 pm concert. Dinner and concert $75 per person. Ticket information call (209) 331-2055 or (209) 953-3460. www.SanJoaquinHistory.org www.thenewchristyminstrels.com
LOCATION:San Joaquin County Historical Museum Micke Grove Regional Park 11793 N. Micke Grove Rd. Lodi\, CA 95240
UID:e.2050.430
SEQUENCE:3
DTSTAMP:20260420T232135Z
URL:https://business.lodichamber.com/events/details/randy-sparks-and-new-christy-minstrels-dinner-concert-07-31-2015-430
END:VEVENT

END:VCALENDAR
