BEGIN:VCALENDAR
VERSION:2.0
PRODID:-//ChamberMaster//Event Calendar 2.0//EN
METHOD:PUBLISH
X-PUBLISHED-TTL:P3D
REFRESH-INTERVAL:P3D
CALSCALE:GREGORIAN
BEGIN:VEVENT
DTSTART:20140726T013000Z
DTEND:20140726T050000Z
X-MICROSOFT-CDO-ALLDAYEVENT:FALSE
SUMMARY:Randy Sparks & New Christy Minstrels Concert & Dinner
DESCRIPTION:Concert\, beginning at 8 PM will feature all seven members of the New Christy Minstrels. Social hour and NY Steak dinner will begin at 6:30 PM. Dinner & Concert $75 per person. Proceeds go to benefit the SJC Historical Museum. For Info & tickets call Museum office 209-331-2055 or 209-953-3460.
X-ALT-DESC;FMTTYPE=text/html:Concert\, beginning at 8 PM will feature all seven members of the New Christy Minstrels. Social hour and NY Steak dinner will begin at 6:30 PM. Dinner &amp\; Concert $75 per person. Proceeds go to benefit the SJC Historical Museum. For Info &amp\; tickets call Museum office 209-331-2055 or 209-953-3460.
LOCATION:Dinner & Concert held on the Museum grounds in Micke Grove Regional Park. West of Hwy 99 off Armstrong Road\, 11793 N. Micke Grove Road 95240
UID:e.2050.287
SEQUENCE:3
DTSTAMP:20260421T161953Z
URL:https://business.lodichamber.com/events/details/randy-sparks-new-christy-minstrels-concert-dinner-07-25-2014-287
END:VEVENT

END:VCALENDAR
