BEGIN:VCALENDAR
VERSION:2.0
PRODID:-//ChamberMaster//Event Calendar 2.0//EN
METHOD:PUBLISH
X-PUBLISHED-TTL:P3D
REFRESH-INTERVAL:P3D
CALSCALE:GREGORIAN
BEGIN:VEVENT
DTSTART:20150606T160000Z
DTEND:20150608T040000Z
X-MICROSOFT-CDO-ALLDAYEVENT:FALSE
SUMMARY:Relay for Life
DESCRIPTION:The American Cancer Society Relay For Life event is a life-changing experience that gives everyone in communities across the globe a chance to Celebrate the lives of people who have battled cancer\, Remember loved ones lost\, and Fight Back against the disease. Lodi will be hosting Relay for Life this weekend and we would like to invite the entire community to join us for all of the festivities of this event. The walk is designed to be a community event?with a huge kids zone\, reptile area and Clark Pest Control Bug Zoo?.bounce houses and fun activities designed around teaching children about cancers of all types. Live entertainment?24 hour DJ\, Food Trucks?Indoor Mass Bunco tournaments.
X-ALT-DESC;FMTTYPE=text/html:The American Cancer Society Relay For Life event is a life-changing experience that gives everyone in communities across the globe a chance to Celebrate the lives of people who have battled cancer\, Remember loved ones lost\, and Fight Back against the disease. Lodi will be hosting Relay for Life this weekend and we would like to invite the entire community to join us for all of the festivities of this event. The walk is designed to be a community event?with a huge kids zone\, reptile area and Clark Pest Control Bug Zoo?.bounce houses and fun activities designed around teaching children about cancers of all types. Live entertainment?24 hour DJ\, Food Trucks?Indoor Mass Bunco tournaments.
LOCATION:Grape Festival Grounds
UID:e.2050.844
SEQUENCE:3
DTSTAMP:20260421T004133Z
URL:https://business.lodichamber.com/events/details/relay-for-life-06-06-2015-844
END:VEVENT

END:VCALENDAR
