BEGIN:VCALENDAR
VERSION:2.0
PRODID:-//ChamberMaster//Event Calendar 2.0//EN
METHOD:PUBLISH
X-PUBLISHED-TTL:P3D
REFRESH-INTERVAL:P3D
CALSCALE:GREGORIAN
BEGIN:VEVENT
DTSTART:20260420T230000Z
DTEND:20260421T010000Z
X-MICROSOFT-CDO-ALLDAYEVENT:FALSE
SUMMARY:ReMax Gold
DESCRIPTION:Ribbon Cutting\n\nRemax Gold\n\nAddress to follow
X-ALT-DESC;FMTTYPE=text/html:Ribbon Cutting<br />\nRemax Gold<br />\nAddress to follow
LOCATION:Remax Gold
UID:e.2050.6338
SEQUENCE:3
DTSTAMP:20260421T001508Z
URL:https://business.lodichamber.com/events/details/remax-gold-6338
END:VEVENT

END:VCALENDAR
