BEGIN:VCALENDAR
VERSION:2.0
PRODID:-//ChamberMaster//Event Calendar 2.0//EN
METHOD:PUBLISH
X-PUBLISHED-TTL:P3D
REFRESH-INTERVAL:P3D
CALSCALE:GREGORIAN
BEGIN:VEVENT
DTSTART:20150314T170000Z
DTEND:20150314T220000Z
X-MICROSOFT-CDO-ALLDAYEVENT:FALSE
SUMMARY:Reptile Roundup
DESCRIPTION:Round up your family and slither on down to the World of Wonders Science Museum on Saturday\, March 14th from 10:00-3:00 for our 6th annual Reptile Roundup. The WOW museum will be teaming up with local reptile stores and museums to bring you a hands-on day of reptile education and fun! The museum will be filled with arts and crafts and all of your favorite scaly friends. You can even have the chance to hold your favorite reptile or pick a new favorite!
X-ALT-DESC;FMTTYPE=text/html:Round up your family and slither on down to the World of Wonders Science Museum on Saturday\, March 14th from 10:00-3:00 for our 6th annual Reptile Roundup. The WOW museum will be teaming up with local reptile stores and museums to bring you a hands-on day of reptile education and fun! The museum will be filled with arts and crafts and all of your favorite scaly friends. You can even have the chance to hold your favorite reptile or pick a new favorite!
LOCATION:World of Wonders Science Museum 2 N. Sacramento Street Lodi\, CA 95240
UID:e.2050.356
SEQUENCE:3
DTSTAMP:20260421T042856Z
URL:https://business.lodichamber.com/events/details/reptile-roundup-03-14-2015-356
END:VEVENT

END:VCALENDAR
