BEGIN:VCALENDAR
VERSION:2.0
PRODID:-//ChamberMaster//Event Calendar 2.0//EN
METHOD:PUBLISH
X-PUBLISHED-TTL:P3D
REFRESH-INTERVAL:P3D
CALSCALE:GREGORIAN
BEGIN:VEVENT
DTSTART:20150702T003000Z
DTEND:20150702T020000Z
X-MICROSOFT-CDO-ALLDAYEVENT:FALSE
SUMMARY:Ribbon Cutting El Concilio Lodi
DESCRIPTION:Ribbon Cutting El Concilio Lodi
X-ALT-DESC;FMTTYPE=text/html:Ribbon Cutting El Concilio Lodi
LOCATION:1330 South Ham Lane
UID:e.2050.851
SEQUENCE:3
DTSTAMP:20260421T004232Z
URL:https://business.lodichamber.com/events/details/ribbon-cutting-el-concilio-lodi-07-01-2015-851
END:VEVENT

END:VCALENDAR
