BEGIN:VCALENDAR
VERSION:2.0
PRODID:-//ChamberMaster//Event Calendar 2.0//EN
METHOD:PUBLISH
X-PUBLISHED-TTL:P3D
REFRESH-INTERVAL:P3D
CALSCALE:GREGORIAN
BEGIN:VEVENT
DTSTART:20150715T003000Z
DTEND:20150715T023000Z
X-MICROSOFT-CDO-ALLDAYEVENT:FALSE
SUMMARY:Ribbon Cutting - O'Z Japanese Restaurant
DESCRIPTION:Ribbon Cutting
X-ALT-DESC;FMTTYPE=text/html:Ribbon Cutting
LOCATION:2414 W. Kettleman Ln. Ste 206
UID:e.2050.875
SEQUENCE:3
DTSTAMP:20260420T232653Z
URL:https://business.lodichamber.com/events/details/ribbon-cutting-o-z-japanese-restaurant-07-14-2015-875
END:VEVENT

END:VCALENDAR
