BEGIN:VCALENDAR
VERSION:2.0
PRODID:-//ChamberMaster//Event Calendar 2.0//EN
METHOD:PUBLISH
X-PUBLISHED-TTL:P3D
REFRESH-INTERVAL:P3D
CALSCALE:GREGORIAN
BEGIN:VEVENT
DTSTART:20150625T003000Z
DTEND:20150625T020000Z
X-MICROSOFT-CDO-ALLDAYEVENT:FALSE
SUMMARY:Ribbon Cutting Port City Roller Girls
DESCRIPTION:Ribbon Cutting for Port City Roller Girls
X-ALT-DESC;FMTTYPE=text/html:Ribbon Cutting for Port City Roller Girls
LOCATION:Lodi Chamber of Commerce
UID:e.2050.850
SEQUENCE:3
DTSTAMP:20260421T020715Z
URL:https://business.lodichamber.com/events/details/ribbon-cutting-port-city-roller-girls-06-24-2015-850
END:VEVENT

END:VCALENDAR
