BEGIN:VCALENDAR
VERSION:2.0
PRODID:-//ChamberMaster//Event Calendar 2.0//EN
METHOD:PUBLISH
X-PUBLISHED-TTL:P3D
REFRESH-INTERVAL:P3D
CALSCALE:GREGORIAN
BEGIN:VEVENT
DTSTART:20150903T003000Z
DTEND:20150903T020000Z
X-MICROSOFT-CDO-ALLDAYEVENT:FALSE
SUMMARY:Ribbon Cutting - Provident Care
DESCRIPTION:Ribbon cutting for Provident Care
X-ALT-DESC;FMTTYPE=text/html:Ribbon cutting for Provident Care
LOCATION:101 W. Locust Suite 4
UID:e.2050.862
SEQUENCE:3
DTSTAMP:20260420T215024Z
URL:https://business.lodichamber.com/events/details/ribbon-cutting-provident-care-09-02-2015-862
END:VEVENT

END:VCALENDAR
