BEGIN:VCALENDAR
VERSION:2.0
PRODID:-//ChamberMaster//Event Calendar 2.0//EN
METHOD:PUBLISH
X-PUBLISHED-TTL:P3D
REFRESH-INTERVAL:P3D
CALSCALE:GREGORIAN
BEGIN:VEVENT
DTSTART:20150827T003000Z
DTEND:20150827T023000Z
X-MICROSOFT-CDO-ALLDAYEVENT:FALSE
SUMMARY:Ribbon Cutting - Right at Home Care
DESCRIPTION:Ribbon Cutting
X-ALT-DESC;FMTTYPE=text/html:Ribbon Cutting
LOCATION:Chamber Office
UID:e.2050.868
SEQUENCE:3
DTSTAMP:20260420T215557Z
URL:https://business.lodichamber.com/events/details/ribbon-cutting-right-at-home-care-08-26-2015-868
END:VEVENT

END:VCALENDAR
