BEGIN:VCALENDAR
VERSION:2.0
PRODID:-//ChamberMaster//Event Calendar 2.0//EN
METHOD:PUBLISH
X-PUBLISHED-TTL:P3D
REFRESH-INTERVAL:P3D
CALSCALE:GREGORIAN
BEGIN:VEVENT
DTSTART:20150716T003000Z
DTEND:20150716T020000Z
X-MICROSOFT-CDO-ALLDAYEVENT:FALSE
SUMMARY:Ribbon Cutting - School Street Gallery
DESCRIPTION:Ribbon Cutting for School Street Gallery
X-ALT-DESC;FMTTYPE=text/html:Ribbon Cutting for School Street Gallery
LOCATION:123 S. School St.
UID:e.2050.860
SEQUENCE:3
DTSTAMP:20260421T004659Z
URL:https://business.lodichamber.com/events/details/ribbon-cutting-school-street-gallery-07-15-2015-860
END:VEVENT

END:VCALENDAR
