BEGIN:VCALENDAR
VERSION:2.0
PRODID:-//ChamberMaster//Event Calendar 2.0//EN
METHOD:PUBLISH
X-PUBLISHED-TTL:P3D
REFRESH-INTERVAL:P3D
CALSCALE:GREGORIAN
BEGIN:VEVENT
DTSTART:20150730T003000Z
DTEND:20150730T020000Z
X-MICROSOFT-CDO-ALLDAYEVENT:FALSE
SUMMARY:Ribbon Cutting Thai Kitchen
DESCRIPTION:Ribbon Cutting for Thai Kitchen
X-ALT-DESC;FMTTYPE=text/html:Ribbon Cutting for Thai Kitchen
LOCATION:107 Sacramento St.
UID:e.2050.854
SEQUENCE:3
DTSTAMP:20260420T231652Z
URL:https://business.lodichamber.com/events/details/ribbon-cutting-thai-kitchen-07-29-2015-854
END:VEVENT

END:VCALENDAR
