BEGIN:VCALENDAR
VERSION:2.0
PRODID:-//ChamberMaster//Event Calendar 2.0//EN
METHOD:PUBLISH
X-PUBLISHED-TTL:P3D
REFRESH-INTERVAL:P3D
CALSCALE:GREGORIAN
BEGIN:VEVENT
DTSTART:20150718T003000Z
DTEND:20150718T020000Z
X-MICROSOFT-CDO-ALLDAYEVENT:FALSE
SUMMARY:Ribbon Cutting Twisted Barrel
DESCRIPTION:Ribbon Cutting for Twisted Barrel
X-ALT-DESC;FMTTYPE=text/html:Ribbon Cutting for Twisted Barrel
LOCATION:1376 E. Turner Road Suite D
UID:e.2050.853
SEQUENCE:3
DTSTAMP:20260421T004217Z
URL:https://business.lodichamber.com/events/details/ribbon-cutting-twisted-barrel-07-17-2015-853
END:VEVENT

END:VCALENDAR
