BEGIN:VCALENDAR
VERSION:2.0
PRODID:-//ChamberMaster//Event Calendar 2.0//EN
METHOD:PUBLISH
X-PUBLISHED-TTL:P3D
REFRESH-INTERVAL:P3D
CALSCALE:GREGORIAN
BEGIN:VEVENT
DTSTART:20150717T123000Z
DTEND:20150717T143000Z
X-MICROSOFT-CDO-ALLDAYEVENT:FALSE
SUMMARY:Ribbon Cutting - Twisted Barrel
DESCRIPTION:Ribbon Cutting
X-ALT-DESC;FMTTYPE=text/html:Ribbon Cutting
LOCATION:1376 E Turner Rd. Suite D
UID:e.2050.872
SEQUENCE:3
DTSTAMP:20260420T232653Z
URL:https://business.lodichamber.com/events/details/ribbon-cutting-twisted-barrel-07-17-2015-872
END:VEVENT

END:VCALENDAR
