BEGIN:VCALENDAR
VERSION:2.0
PRODID:-//ChamberMaster//Event Calendar 2.0//EN
METHOD:PUBLISH
X-PUBLISHED-TTL:P3D
REFRESH-INTERVAL:P3D
CALSCALE:GREGORIAN
BEGIN:VEVENT
DTSTART:20151114T040000Z
DTEND:20151114T060000Z
X-MICROSOFT-CDO-ALLDAYEVENT:FALSE
SUMMARY:Riders In The Sky
DESCRIPTION:Rider's in the Sky Salute to Roy Rogers For more than thirty years Riders In The Sky have been keepers of the flame passed on by the Sons of the Pioneers\, Gene Autry and Roy Rogers\, reviving and revitalizing the genre. While remaining true to the integrity of Western music\, they have themselves become modern-day icons by branding the genre with their own legendary wacky humor and way-out Western wit.
X-ALT-DESC;FMTTYPE=text/html:Rider&#39\;s in the Sky Salute to Roy Rogers For more than thirty years Riders In The Sky have been keepers of the flame passed on by the Sons of the Pioneers\, Gene Autry and Roy Rogers\, reviving and revitalizing the genre. While remaining true to the integrity of Western music\, they have themselves become modern-day icons by branding the genre with their own legendary wacky humor and way-out Western wit.
LOCATION:Hutchins Street Square 125 S. Hutchins Street Lodi\,CA 95240
UID:e.2050.910
SEQUENCE:3
DTSTAMP:20260420T172723Z
URL:https://business.lodichamber.com/events/details/riders-in-the-sky-11-13-2015-910
END:VEVENT

END:VCALENDAR
