BEGIN:VCALENDAR
VERSION:2.0
PRODID:-//ChamberMaster//Event Calendar 2.0//EN
METHOD:PUBLISH
X-PUBLISHED-TTL:P3D
REFRESH-INTERVAL:P3D
CALSCALE:GREGORIAN
BEGIN:VEVENT
DTSTART:20150823T000000Z
DTEND:20150823T050000Z
X-MICROSOFT-CDO-ALLDAYEVENT:FALSE
SUMMARY:Roller Derby in Lodi
DESCRIPTION:Watch the toughest ladies (and gents) on 8 wheels battle it out when Lodi?s very own roller derby team\, the Loco City Derby Girls return to the Grape Festival Grounds on Saturday\, August 22nd to bring you a double header event! You will catch a glimpse of men?s roller derby as the Charming Regulators Co-Ed team take on the Pacific Coast Recycled Rollers Co-ed team in the first bout (game).  Next up will be your very own Loco City Derby Girls vs. Pacific Coast Recycled Rollers in the last home bout of the 2015 inaugural season.\n\n\n\nDoors open at 5:00 P.M.   The action begins at 5:30 P.M. General Admission tickets for the bout are available NOW from your favorite derby girl or online for $10 until 8/14. ($15 at the door).   Tickets are available for purchase at http://www.brownpapertickets.com/event/2061798  Event is open to all ages.\n\n\n\nAs a non-profit\, Loco City Derby Girls always have a benefactor for their bouts.  This time they will be hosting a pet adoption event with Animal Friends Connection.  A portion of the proceeds earned from ticket sales will be donated to the foundation and fans are encouraged to bring pet food/ pet care items to donate as well.  Pet adoptions will run during the event from 5:00PM to 8:00PM.\n\n\n\nFans of all ages will be able to enjoy raffle prizes\, photo booth\, air brush tattoos\, snack bar and Estrella?s Taquiza Catering will be onsite making this event an evening of food\, drink\, and entertainment.   Fans 21+ can enjoy the beer booth brought in by Tokay High School Sports Booster Club.  \n\n\n\nLast but not least\, the Loco City Derby Girls would like to thank all our amazing bout sponsors: Smart Alic\, House of Coffees\, No Limits Sports Nutrition\, La Bella Mobile Boutique\, WorldPay\, Coldwell Banker\, California Window Tinting\, Burns Family Carpet Cleaning\, Air Tech Heating & Air\, Take 27 Bar and Grill\, Estrella?s Taquiza\, Sparkle Dance Studio andElaine Begley Photography.
X-ALT-DESC;FMTTYPE=text/html:<span style="font-family:tahoma\,sans-serif"><span style="font-size:9pt">Watch the toughest ladies (and gents) on 8 wheels battle it out when Lodi?s very own roller derby team\, the Loco City Derby Girls return to the Grape Festival Grounds on Saturday\, August 22<sup>nd</sup> to bring you a double header event! You will catch a glimpse of men?s roller derby as the Charming Regulators Co-Ed team take on the Pacific Coast Recycled Rollers Co-ed team in the first bout (game).&nbsp\; Next up will be your very own Loco City Derby Girls vs. Pacific Coast Recycled Rollers in the last home bout of the 2015 inaugural season.</span></span><br>\n<br>\n<span style="font-family:tahoma\,sans-serif"><span style="font-size:9pt">Doors open at 5:00 P.M.&nbsp\;&nbsp\; The action begins at 5:30 P.M. General Admission tickets for the bout are available NOW from your favorite derby girl or online for $10 until 8/14. ($15 at the door).&nbsp\;&nbsp\; Tickets are available for purchase at </span></span><a href="http://www.brownpapertickets.com/event/2061798" target="_blank"><span style="color:#1155CC"><span style="font-family:arial\,sans-serif"><span style="font-size:9.5pt">http://www.brownpapertickets.com/event/2061798</span></span></span></a>&nbsp\; <span style="font-family:tahoma\,sans-serif"><span style="font-size:9pt">Event is open to all ages.</span></span><br>\n<br>\n<span style="font-family:tahoma\,sans-serif"><span style="font-size:9pt">As a non-profit\, Loco City Derby Girls always have a benefactor for their bouts.&nbsp\; This time they will be hosting a pet adoption event with Animal Friends Connection.&nbsp\; A portion of the proceeds earned from ticket sales will be donated to the foundation and fans are encouraged to bring pet food/ pet care items to donate as well. &nbsp\;Pet adoptions will run during the event from 5:00PM to 8:00PM.</span></span><br>\n<br>\n<span style="font-family:tahoma\,sans-serif"><span style="font-size:9pt">Fans of all ages will be able to enjoy raffle prizes\, photo booth\, air brush tattoos\, snack bar and Estrella?s Taquiza Catering will be onsite making this event an evening of food\, drink\, and entertainment. &nbsp\;&nbsp\;Fans 21+ can enjoy the beer booth brought in by Tokay High School Sports Booster Club.&nbsp\; </span></span><br>\n<br>\n<span style="font-family:tahoma\,sans-serif"><span style="font-size:9pt">Last but not least\, the Loco City Derby Girls would like to thank all our amazing bout sponsors: Smart Alic\, House of Coffees\, No Limits Sports Nutrition\, La Bella Mobile Boutique\, WorldPay\, Coldwell Banker\, California Window Tinting\, Burns Family Carpet Cleaning\, Air Tech Heating &amp\; Air\, Take 27 Bar and Grill\, Estrella?s Taquiza\, Sparkle Dance Studio andElaine Begley Photography.</span></span><br>\n&nbsp\;
LOCATION:Lodi Grape Festival Grounds - Cabernet Hall
UID:e.2050.879
SEQUENCE:3
DTSTAMP:20260420T214954Z
URL:https://business.lodichamber.com/events/details/roller-derby-in-lodi-08-22-2015-879
END:VEVENT

END:VCALENDAR
