BEGIN:VCALENDAR
VERSION:2.0
PRODID:-//ChamberMaster//Event Calendar 2.0//EN
METHOD:PUBLISH
X-PUBLISHED-TTL:P3D
REFRESH-INTERVAL:P3D
CALSCALE:GREGORIAN
BEGIN:VEVENT
DTSTART:20140824T020000Z
DTEND:20140824T033000Z
X-MICROSOFT-CDO-ALLDAYEVENT:FALSE
SUMMARY:S'more Zoo After Dark
DESCRIPTION:Ever wonder what may be lurking after dark at the zoo? Stay cool this summer by strolling under the stars to the sounds of the wild things. See the zoo by moonlight on an after dark adventure full of crafts\, animal talks\, storytelling\, and campfire snacks! Tickets available online only at mgzoo.com. Ticket required for entry. Tickets are available for purchase through August 22 while supplies last. $12/non-member and $8/member. Free for children ages 2 and under. Learn more at mgzoo.com.
X-ALT-DESC;FMTTYPE=text/html:Ever wonder what may be lurking after dark at the zoo? Stay cool this summer by strolling under the stars to the sounds of the wild things. See the zoo by moonlight on an after dark adventure full of crafts\, animal talks\, storytelling\, and campfire snacks! Tickets available online only at mgzoo.com. Ticket required for entry. Tickets are available for purchase through August 22 while supplies last. $12/non-member and $8/member. Free for children ages 2 and under. Learn more at mgzoo.com.
LOCATION:Micke Grove Zoo 11793 N Micke Grove Rd\, Lodi\, CA 95240
UID:e.2050.288
SEQUENCE:3
DTSTAMP:20260421T161226Z
URL:https://business.lodichamber.com/events/details/s-more-zoo-after-dark-08-23-2014-288
END:VEVENT

END:VCALENDAR
