BEGIN:VCALENDAR
VERSION:2.0
PRODID:-//ChamberMaster//Event Calendar 2.0//EN
METHOD:PUBLISH
X-PUBLISHED-TTL:P3D
REFRESH-INTERVAL:P3D
CALSCALE:GREGORIAN
BEGIN:VEVENT
DTSTART:20151118T020000Z
DTEND:20151118T040000Z
X-MICROSOFT-CDO-ALLDAYEVENT:FALSE
SUMMARY:Sacramento Sales Job Fair - November 17th
DESCRIPTION:Come meet your next Employer at our hiring event on November 17th\, 2015 JPL Talent\, Inc is holding its next Professional Sales and Management Hiring event in the Sacramento area. If you are looking for a career opportunity in outside or inside sales\, advertising\, business development or management then this is the event for you. Take this first step and interview with the top industry leading companies. Interview with Hiring Managers on November 17th!!! Sacramento Professional Sales and Management Hiring Event Hyatt Regency Sacramento 1209 L St\, Sacramento\, CA 95814 Tuesday\, November 17th\, 2015 6pm ? 8pm Visit JPLTalent for more information! This is a FREE hiring event\; however\, we do encourage pre-registration to receive up-to-date e-mails. Register below using the link!!! REGISTER HERE!!! http://jpltalent.catsone.com/careers/index.php?m=portal&a=apply&jobOrderID=6101954&portalID=31205 ****Professional Attire is required for all attendees ****Bring 7-10 copies of your resume to hand to the hiring managers Job Opportunities may include: Account Executives\, Sales Representatives\, Inside Sales\, Outside Sales\, Account Managers and much More!!
X-ALT-DESC;FMTTYPE=text/html:Come meet your next Employer at our hiring event on November 17th\, 2015 JPL Talent\, Inc is holding its next Professional Sales and Management Hiring event in the Sacramento area. If you are looking for a career opportunity in outside or inside sales\, advertising\, business development or management then this is the event for you. Take this first step and interview with the top industry leading companies. Interview with Hiring Managers on November 17th!!! Sacramento Professional Sales and Management Hiring Event Hyatt Regency Sacramento 1209 L St\, Sacramento\, CA 95814 Tuesday\, November 17th\, 2015 6pm ? 8pm Visit JPLTalent for more information! This is a FREE hiring event\; however\, we do encourage pre-registration to receive up-to-date e-mails. Register below using the link!!! REGISTER HERE!!! http://jpltalent.catsone.com/careers/index.php?m=portal&amp\;a=apply&amp\;jobOrderID=6101954&amp\;portalID=31205 ****Professional Attire is required for all attendees ****Bring 7-10 copies of your resume to hand to the hiring managers Job Opportunities may include: Account Executives\, Sales Representatives\, Inside Sales\, Outside Sales\, Account Managers and much More!!
LOCATION:Sacramento Professional Sales and Management Hiring Event Hyatt Regency Sacramento 1209 L St\, Sacramento\, CA 95814 Tuesday\, November 17th\, 2015 6pm ? 8pm
UID:e.2050.929
SEQUENCE:3
DTSTAMP:20260420T185756Z
URL:https://business.lodichamber.com/events/details/sacramento-sales-job-fair-november-17th-11-17-2015-929
END:VEVENT

END:VCALENDAR
