BEGIN:VCALENDAR
VERSION:2.0
PRODID:-//ChamberMaster//Event Calendar 2.0//EN
METHOD:PUBLISH
X-PUBLISHED-TTL:P3D
REFRESH-INTERVAL:P3D
CALSCALE:GREGORIAN
BEGIN:VEVENT
DTSTART:20140503T200000Z
DTEND:20140503T230000Z
X-MICROSOFT-CDO-ALLDAYEVENT:FALSE
SUMMARY:Sampler - New Works By Dennis Ziemienski - Robin Knowlton Gallery
DESCRIPTION:When Dennis Ziemienski suggested a show of small works\, we couldn't have been more thrilled.  He traveled a lot over the past year and thought he would include paintings from his trips\, as well as local landscapes and his more illustrative compositions\, hence the name of the show\, SAMPLER. Join us for the opening reception on Saturday\, May 3\, 1 - 4pm.
X-ALT-DESC;FMTTYPE=text/html:When Dennis Ziemienski suggested a show of small works\, we couldn&#39\;t have been more thrilled. &nbsp\;He traveled a lot over the past year and thought he would include paintings from his trips\, as well as local landscapes and his more illustrative compositions\, hence the name of the show\, SAMPLER. Join us for the opening reception on Saturday\, May 3\, 1 - 4pm.
LOCATION:115 S. School St\, #14 Lodi\, CA 95240
UID:e.2050.230
SEQUENCE:3
DTSTAMP:20260421T191046Z
URL:https://business.lodichamber.com/events/details/sampler-new-works-by-dennis-ziemienski-robin-knowlton-gallery-05-03-2014-230
END:VEVENT

END:VCALENDAR
