BEGIN:VCALENDAR
VERSION:2.0
PRODID:-//ChamberMaster//Event Calendar 2.0//EN
METHOD:PUBLISH
X-PUBLISHED-TTL:P3D
REFRESH-INTERVAL:P3D
CALSCALE:GREGORIAN
BEGIN:VEVENT
DTSTART;VALUE=DATE:20150616
DTEND;VALUE=DATE:20150621
TRANSP:TRANSPARENT
X-MICROSOFT-CDO-ALLDAYEVENT:TRUE
SUMMARY:San Joaquin AgFest
DESCRIPTION:San Joaquin Counties 4H and FFA Junior Show and Auction. Join us for daily livestock show\, culminating Friday night with the selection of the Master Showman who will represent us at the California State Fair. June us ringside on Saturday for the counties largest Junior livestock auction.
X-ALT-DESC;FMTTYPE=text/html:San Joaquin Counties 4H and FFA Junior Show and Auction. Join us for daily livestock show\, culminating Friday night with the selection of the Master Showman who will represent us at the California State Fair. June us ringside on Saturday for the counties largest Junior livestock auction.
LOCATION:San Joaquin Fairgrounds 1658 S. Airport Way Stockton\, CA 95206
UID:e.2050.442
SEQUENCE:3
DTSTAMP:20260421T015731Z
URL:https://business.lodichamber.com/events/details/san-joaquin-agfest-06-16-2015-442
END:VEVENT

END:VCALENDAR
