BEGIN:VCALENDAR
VERSION:2.0
PRODID:-//ChamberMaster//Event Calendar 2.0//EN
METHOD:PUBLISH
X-PUBLISHED-TTL:P3D
REFRESH-INTERVAL:P3D
CALSCALE:GREGORIAN
BEGIN:VEVENT
DTSTART;VALUE=DATE:20140617
DTEND;VALUE=DATE:20140622
TRANSP:TRANSPARENT
X-MICROSOFT-CDO-ALLDAYEVENT:TRUE
SUMMARY:San Joaquin AgFest
DESCRIPTION:5 days of fun at the San Joaquin Fairgrounds. Your dedicated FFA\, 4H and Independent exhibitors\, showing and selling their vocational and livestock projects. Join us for daily livestock shows\, Diggin' in the Dirt kid's area\, Thursday's Farm to Fork\, Friday's horse exhibition\, Master Showmanship competition and vocational project auction. All this and so much more to support the Jr. exhibitors of San Joaquin County. Join us ringside Saturday\, June 21st for the Livestock Auction.
X-ALT-DESC;FMTTYPE=text/html:5 days of fun at the San Joaquin Fairgrounds. Your dedicated FFA\, 4H and Independent exhibitors\, showing and selling their vocational and livestock projects. Join us for daily livestock shows\, Diggin&#39\; in the Dirt kid&#39\;s area\, Thursday&#39\;s Farm to Fork\, Friday&#39\;s horse exhibition\, Master Showmanship competition and vocational project auction. All this and so much more to support the Jr. exhibitors of San Joaquin County. Join us ringside Saturday\, June 21st for the Livestock Auction.
LOCATION:San Joaquin Fairgrounds\, 1658 S. Airport Way\, Stockton
UID:e.2050.273
SEQUENCE:3
DTSTAMP:20260421T174143Z
URL:https://business.lodichamber.com/events/details/san-joaquin-agfest-06-17-2014-273
END:VEVENT

END:VCALENDAR
