BEGIN:VCALENDAR
VERSION:2.0
PRODID:-//ChamberMaster//Event Calendar 2.0//EN
METHOD:PUBLISH
X-PUBLISHED-TTL:P3D
REFRESH-INTERVAL:P3D
CALSCALE:GREGORIAN
BEGIN:VEVENT
DTSTART:20150208T223000Z
DTEND:20150209T003000Z
X-MICROSOFT-CDO-ALLDAYEVENT:FALSE
SUMMARY:Saxsational
DESCRIPTION:Lodi Community Concert Association Presents: Rob Verdi shares his rare and unusual instrument collection of saxophones. Accompanied by the Lodi Community Band with Arthur J. Holton Jr. as director.
X-ALT-DESC;FMTTYPE=text/html:Lodi Community Concert Association Presents: Rob Verdi shares his rare and unusual instrument collection of saxophones. Accompanied by the Lodi Community Band with Arthur J. Holton Jr. as director.
LOCATION:Hutchins Street Square 125 S. Hutchins St. Lodi\, CA 95240
UID:e.2050.359
SEQUENCE:3
DTSTAMP:20260421T055649Z
URL:https://business.lodichamber.com/events/details/saxsational-02-08-2015-359
END:VEVENT

END:VCALENDAR
