BEGIN:VCALENDAR
VERSION:2.0
PRODID:-//ChamberMaster//Event Calendar 2.0//EN
METHOD:PUBLISH
X-PUBLISHED-TTL:P3D
REFRESH-INTERVAL:P3D
CALSCALE:GREGORIAN
BEGIN:VEVENT
DTSTART:20150604T010000Z
DTEND:20150604T030000Z
X-MICROSOFT-CDO-ALLDAYEVENT:FALSE
SUMMARY:Science Night Live
DESCRIPTION:SCIENCE NIGHT LIVE is an engaging science experience within a casual atmosphere for the curious minds in our community! Come join the conversation with a local scientist\, participate in hands-on activities\, socialize with other science enthusiasts\, reward your trivia skills\, and enjoy a drink from the beer & wine cash bar with some great food from Carnitas Don Fili!
X-ALT-DESC;FMTTYPE=text/html:SCIENCE NIGHT LIVE is an engaging science experience within a casual atmosphere for the curious minds in our community! Come join the conversation with a local scientist\, participate in hands-on activities\, socialize with other science enthusiasts\, reward your trivia skills\, and enjoy a drink from the beer &amp\; wine cash bar with some great food from Carnitas Don Fili!
LOCATION:World of Wonders Science Museum
UID:e.2050.842
SEQUENCE:3
DTSTAMP:20260421T004009Z
URL:https://business.lodichamber.com/events/details/science-night-live-06-03-2015-842
END:VEVENT

END:VCALENDAR
