BEGIN:VCALENDAR
VERSION:2.0
PRODID:-//ChamberMaster//Event Calendar 2.0//EN
METHOD:PUBLISH
X-PUBLISHED-TTL:P3D
REFRESH-INTERVAL:P3D
CALSCALE:GREGORIAN
BEGIN:VEVENT
DTSTART:20141106T020000Z
DTEND:20141106T040000Z
X-MICROSOFT-CDO-ALLDAYEVENT:FALSE
SUMMARY:Science Night Live
DESCRIPTION:Science Night Live is an engaging science experience within a casual atmosphere for the curious minds in our community! This month is a conversation with UC Davis Professor Jared Shaw- CHEMICAL TINKER TOYS: How to Build New Antibiotics and Other Useful Molecules
X-ALT-DESC;FMTTYPE=text/html:Science Night Live is an engaging science experience within a casual atmosphere for the curious minds in our community! This month is a conversation with UC Davis Professor Jared Shaw- CHEMICAL TINKER TOYS: How to Build New Antibiotics and Other Useful Molecules
LOCATION:World of Wonders Science Museum 2 N. Sacramento St. Lodi\, CA 95240
UID:e.2050.335
SEQUENCE:3
DTSTAMP:20260419T215415Z
URL:https://business.lodichamber.com/events/details/science-night-live-11-05-2014-335
END:VEVENT

END:VCALENDAR
