BEGIN:VCALENDAR
VERSION:2.0
PRODID:-//ChamberMaster//Event Calendar 2.0//EN
METHOD:PUBLISH
X-PUBLISHED-TTL:P3D
REFRESH-INTERVAL:P3D
CALSCALE:GREGORIAN
BEGIN:VEVENT
DTSTART:20140428T170000Z
DTEND:20140429T000000Z
X-MICROSOFT-CDO-ALLDAYEVENT:FALSE
SUMMARY:Science on the Green Golf Tournament
DESCRIPTION:The World of Wonders Science Museum is asking for your support in the 7th Annual Science on the Green Golf Tournament. Lend your support by becoming a Tournament Sponsor\, gifting a raffle prize(s)\, or just enjoying a wonderful day of golf with us. All proceeds raised will go directly to the World of Wonders Science Museum. Your generous contributions are greatly appreciated!   All proceeds benefit the World of Wonders Science Museum.
X-ALT-DESC;FMTTYPE=text/html:The World of Wonders Science Museum is asking for your support in the 7th Annual Science on the Green Golf Tournament. Lend your support by becoming a Tournament Sponsor\, gifting a raffle prize(s)\, or just enjoying a wonderful day of golf with us. All proceeds raised will go directly to the World of Wonders Science Museum. Your generous contributions are greatly appreciated! &nbsp\; All proceeds benefit the World of Wonders Science Museum.
LOCATION:Woodbridge Golf & Country Club
UID:e.2050.264
SEQUENCE:3
DTSTAMP:20260421T222530Z
URL:https://business.lodichamber.com/events/details/science-on-the-green-golf-tournament-04-28-2014-264
END:VEVENT

END:VCALENDAR
