BEGIN:VCALENDAR
VERSION:2.0
PRODID:-//ChamberMaster//Event Calendar 2.0//EN
METHOD:PUBLISH
X-PUBLISHED-TTL:P3D
REFRESH-INTERVAL:P3D
CALSCALE:GREGORIAN
BEGIN:VEVENT
DTSTART:20261013T210000Z
DTEND:20261013T210000Z
X-MICROSOFT-CDO-ALLDAYEVENT:FALSE
SUMMARY:SCORE - Bryan Fletcher
DESCRIPTION:Small Business Association - SCORE with Bryan Fletcher\n\nMake your appointments for the following information:\n\n	Business plans\n	Business loans\n	Business license\n	General info. on where to start your business\n	Permits\n\nPlease schedule an appointment with \n\nBryan (209)  482-4630 or bryan.fletcher@scorevolunteer.org\n\nMarika Paternostro (209) 367-7840 or frontdesk@lodichamber.com
X-ALT-DESC;FMTTYPE=text/html:Small Business Association - SCORE with Bryan Fletcher<br />\nMake your appointments for the following information:\n<ul>\n	<li>Business plans</li>\n	<li>Business loans</li>\n	<li>Business license</li>\n	<li>General info. on where to start your business</li>\n	<li>Permits</li>\n</ul>\nPlease schedule an appointment with&nbsp\;<br />\nBryan (209)&nbsp\; 482-4630 or bryan.fletcher@scorevolunteer.org<br />\nMarika Paternostro (209) 367-7840 or frontdesk@lodichamber.com
LOCATION:Lodi chamber of Commerce 35 S School Street Lodi
UID:e.2050.6263
SEQUENCE:3
DTSTAMP:20260421T060804Z
URL:https://business.lodichamber.com/events/details/score-bryan-fletcher-10-13-2026-6263
END:VEVENT

END:VCALENDAR
