BEGIN:VCALENDAR
VERSION:2.0
PRODID:-//ChamberMaster//Event Calendar 2.0//EN
METHOD:PUBLISH
X-PUBLISHED-TTL:P3D
REFRESH-INTERVAL:P3D
CALSCALE:GREGORIAN
BEGIN:VEVENT
DTSTART:20150301T220000Z
DTEND:20150302T000000Z
X-MICROSOFT-CDO-ALLDAYEVENT:FALSE
SUMMARY:Senior Follies
DESCRIPTION:Come out and enjoy Lodi's Premier Senior Talent. A fun filled afternoon showcasing a variety of distinguished performers. Directed by Mike Bartram and Sabrina Willis of Changing Faces Theater Company
X-ALT-DESC;FMTTYPE=text/html:Come out and enjoy Lodi&#39\;s Premier Senior Talent. A fun filled afternoon showcasing a variety of distinguished performers. Directed by Mike Bartram and Sabrina Willis of Changing Faces Theater Company
LOCATION:Hutchins Street Square 125 S. Hutchins St. Lodi\, CA 95240
UID:e.2050.361
SEQUENCE:3
DTSTAMP:20260421T043158Z
URL:https://business.lodichamber.com/events/details/senior-follies-03-01-2015-361
END:VEVENT

END:VCALENDAR
