BEGIN:VCALENDAR
VERSION:2.0
PRODID:-//ChamberMaster//Event Calendar 2.0//EN
METHOD:PUBLISH
X-PUBLISHED-TTL:P3D
REFRESH-INTERVAL:P3D
CALSCALE:GREGORIAN
BEGIN:VEVENT
DTSTART:20160306T220000Z
DTEND:20160307T000000Z
X-MICROSOFT-CDO-ALLDAYEVENT:FALSE
SUMMARY:Senior Follies
DESCRIPTION:The spectacular Dave Simmons returns to host the showcase of Lodi's talent in a Broadway-style variety show. Directed by Mike Bartram and Sabrina Willis of Changing Faces Theater Co.\, You won't want to miss out on this year's talent!
X-ALT-DESC;FMTTYPE=text/html:The spectacular Dave Simmons returns to host the showcase of Lodi&#39\;s talent in a Broadway-style variety show. Directed by Mike Bartram and Sabrina Willis of Changing Faces Theater Co.\, You won&#39\;t want to miss out on this year&#39\;s talent!
LOCATION:Hutchins Street Square
UID:e.2050.959
SEQUENCE:3
DTSTAMP:20260420T130419Z
URL:https://business.lodichamber.com/events/details/senior-follies-03-06-2016-959
END:VEVENT

END:VCALENDAR
