BEGIN:VCALENDAR
VERSION:2.0
PRODID:-//ChamberMaster//Event Calendar 2.0//EN
METHOD:PUBLISH
X-PUBLISHED-TTL:P3D
REFRESH-INTERVAL:P3D
CALSCALE:GREGORIAN
BEGIN:VEVENT
DTSTART:20150522T023000Z
DTEND:20150601T050000Z
X-MICROSOFT-CDO-ALLDAYEVENT:FALSE
SUMMARY:Seven Brides For Seven Brothers
DESCRIPTION:Set in the mountains of Oregon in the 1850's\, "Seven Brides for Seven Brothers" is a spectacular musical about seven rambunctious brothers who are desperate for wives. So desperate\, in fact\, they hatch a plot to steal lovely young ladies from the nearest town. This is a musical full of classic songs and high energy dancing! Under 4 years not admitted.
X-ALT-DESC;FMTTYPE=text/html:Set in the mountains of Oregon in the 1850&#39\;s\, &quot\;Seven Brides for Seven Brothers&quot\; is a spectacular musical about seven rambunctious brothers who are desperate for wives. So desperate\, in fact\, they hatch a plot to steal lovely young ladies from the nearest town. This is a musical full of classic songs and high energy dancing! Under 4 years not admitted.
LOCATION:Hutchins Street Square 125 S. Hutchins St. Lodi\, CA 95240
UID:e.2050.434
SEQUENCE:3
DTSTAMP:20260421T020213Z
URL:https://business.lodichamber.com/events/details/seven-brides-for-seven-brothers-05-21-2015-434
END:VEVENT

END:VCALENDAR
