BEGIN:VCALENDAR
VERSION:2.0
PRODID:-//ChamberMaster//Event Calendar 2.0//EN
METHOD:PUBLISH
X-PUBLISHED-TTL:P3D
REFRESH-INTERVAL:P3D
CALSCALE:GREGORIAN
BEGIN:VEVENT
DTSTART:20160210T010000Z
DTEND:20160210T050000Z
X-MICROSOFT-CDO-ALLDAYEVENT:FALSE
SUMMARY:Shrimp and Pasta Feed
DESCRIPTION:Central California School of Italian Language and Culture presents their annual all you can eat Shrimp and Pasta Dinner. Dinner includes antipasto\, salad\, two pastas\, lots of shrimp\, dessert\, wine and coffee. Space is limited. Call today to make a reservation.
X-ALT-DESC;FMTTYPE=text/html:Central California School of Italian Language and Culture presents their annual all you can eat Shrimp and Pasta Dinner. Dinner includes antipasto\, salad\, two pastas\, lots of shrimp\, dessert\, wine and coffee. Space is limited. Call today to make a reservation.
LOCATION:Italian Athletic Club 3541 Cherryland Ave/ Stockton\, CA95215
UID:e.2050.951
SEQUENCE:3
DTSTAMP:20260420T143257Z
URL:https://business.lodichamber.com/events/details/shrimp-and-pasta-feed-02-09-2016-951
END:VEVENT

END:VCALENDAR
