BEGIN:VCALENDAR
VERSION:2.0
PRODID:-//ChamberMaster//Event Calendar 2.0//EN
METHOD:PUBLISH
X-PUBLISHED-TTL:P3D
REFRESH-INTERVAL:P3D
CALSCALE:GREGORIAN
BEGIN:VEVENT
DTSTART:20160416T190000Z
DTEND:20160416T230000Z
X-MICROSOFT-CDO-ALLDAYEVENT:FALSE
SUMMARY:Silicon Valley Wine Auction
DESCRIPTION:The Silicon Valley Wine Auction\, now in its second year\, highlights the vintners of the Santa Cruz Mountains while engaging the community to support the STEM education programs of the Silicon Valley Education Fund. We invite you to join the fun while supporting the education of our community's children April 16 at Levi?s Stadium. The multifaceted auction includes a Grand Wine & Food Tasting\, featuring wines from over 50 wineries of the Santa Cruz Mountains paired with epicurean delights\, over 200 silent auction lots and culminates with a Wine Pairing Dinner (sold out) featuring rare and exclusive wines from notable vintners of the Santa Cruz Mountains as well as an exciting live auction. Grand Wine Tasting: $95-125\, 12:00 pm ? 4:00 pm Wine Dinner and Live Auction: $550\, 5:30 pm-10:00 pm
X-ALT-DESC;FMTTYPE=text/html:The Silicon Valley Wine Auction\, now in its second year\, highlights the vintners of the Santa Cruz Mountains while engaging the community to support the STEM education programs of the Silicon Valley Education Fund. We invite you to join the fun while supporting the education of our community&#39\;s children April 16 at Levi?s Stadium. The multifaceted auction includes a Grand Wine &amp\; Food Tasting\, featuring wines from over 50 wineries of the Santa Cruz Mountains paired with epicurean delights\, over 200 silent auction lots and culminates with a Wine Pairing Dinner (sold out) featuring rare and exclusive wines from notable vintners of the Santa Cruz Mountains as well as an exciting live auction. Grand Wine Tasting: $95-125\, 12:00 pm ? 4:00 pm Wine Dinner and Live Auction: $550\, 5:30 pm-10:00 pm
LOCATION:Levi's Stadium 4900 Marie P DeBartolo Way Santa Clara\, CA 95054
UID:e.2050.974
SEQUENCE:3
DTSTAMP:20260420T101047Z
URL:https://business.lodichamber.com/events/details/silicon-valley-wine-auction-04-16-2016-974
END:VEVENT

END:VCALENDAR
